BEGIN:VCALENDAR
VERSION:2.0
PRODID:-//ChamberMaster//Event Calendar 2.0//EN
METHOD:PUBLISH
X-PUBLISHED-TTL:P3D
REFRESH-INTERVAL:P3D
CALSCALE:GREGORIAN
BEGIN:VEVENT
DTSTART;VALUE=DATE:20080121
DTEND;VALUE=DATE:20080122
TRANSP:TRANSPARENT
X-MICROSOFT-CDO-ALLDAYEVENT:TRUE
SUMMARY:Manhattan Piano Trio
DESCRIPTION:This popular trio\, graduates of the Julliard School of Music in New York City\, consisting of the piano\,\nviolin\, and cello returns to Beaufort.
X-ALT-DESC;FMTTYPE=text/html:This popular trio\, graduates of the Julliard School of Music in New York City\, consisting of the piano\,\nviolin\, and cello returns to Beaufort.
LOCATION:
UID:e.1212.1852
SEQUENCE:3
DTSTAMP:20260424T234134Z
URL:https://business.beaufortchamber.org/events/details/manhattan-piano-trio-01-21-2008-1852
END:VEVENT

END:VCALENDAR
