BEGIN:VCALENDAR
VERSION:2.0
PRODID:-//ChamberMaster//Event Calendar 2.0//EN
METHOD:PUBLISH
X-PUBLISHED-TTL:P3D
REFRESH-INTERVAL:P3D
CALSCALE:GREGORIAN
BEGIN:VEVENT
DTSTART:20230714T153000Z
DTEND:20230714T170000Z
X-MICROSOFT-CDO-ALLDAYEVENT:FALSE
SUMMARY:Maximize Your Chamber Membership
DESCRIPTION:Are you taking full advantage of your membership? Come find out all the marking and connection opportunities available through the Beaufort Chamber at the upcoming Maximize Your Membership luncheon. It's also a great opportunity to meet several new Chamber members. This is offered at no cost to members\, but space is limited\, so sign up today. \n\nContact Susan@beaufortchamber.org for more information.
X-ALT-DESC;FMTTYPE=text/html:<p><span style="color: rgb(63\, 63\, 63)\;"><span style="font-family: calibri\, sans-serif\;">Are you taking full advantage of your membership? Come find out all the marking and connection opportunities available through the Beaufort Chamber at the upcoming&nbsp\;</span></span><a href="https://business.beaufortchamber.org/events/details/maximize-your-membership-13311"><span style="font-family: calibri\, sans-serif\;">Maximize Your Membership</span></a><span style="color: rgb(63\, 63\, 63)\;"><span style="font-family: calibri\, sans-serif\;">&nbsp\;luncheon. It&rsquo\;s also a great opportunity to meet several new Chamber members. This is offered at no cost to members\, but s</span></span><span style="color: rgb(63\, 63\, 63)\;"><span style="font-family: calibri\, sans-serif\;">pace is limited\, so sign up today.</span></span><span style="color: rgb(63\, 63\, 63)\;"><span style="font-family: calibri\, sans-serif\;">&nbsp\;</span></span></p>\n\n<p><span style="color: rgb(63\, 63\, 63)\;"><span style="font-family: calibri\, sans-serif\;">Contact Susan@beaufortchamber.org for more information.</span></span></p>\n
LOCATION:1106 Carteret Street\, 29902
UID:e.1212.13407
SEQUENCE:3
DTSTAMP:20260424T100006Z
URL:https://business.beaufortchamber.org/events/details/maximize-your-chamber-membership-13407
END:VEVENT

END:VCALENDAR
