BEGIN:VCALENDAR
VERSION:2.0
PRODID:-//ChamberMaster//Event Calendar 2.0//EN
METHOD:PUBLISH
X-PUBLISHED-TTL:P3D
REFRESH-INTERVAL:P3D
CALSCALE:GREGORIAN
BEGIN:VEVENT
DTSTART:20221209T163000Z
DTEND:20221209T180000Z
X-MICROSOFT-CDO-ALLDAYEVENT:FALSE
SUMMARY:Maximize Your Membership
DESCRIPTION:New Members and Current Members may join us for lunch and a program to help you Maximize Your Membership!\n\n\n\nSeating is limited and reservations required. Email Susan at susan@beaufortchamber.org
X-ALT-DESC;FMTTYPE=text/html:<p>New Members and Current Members may join us for lunch and a program to help you Maximize Your Membership!</p>\n\n<p><br />\nSeating is limited and reservations required. Email Susan at susan@beaufortchamber.org</p>\n
LOCATION:Chamber Offices 1106 Carteret Street\, Beaufort\, SC 29902
UID:e.1212.13311
SEQUENCE:3
DTSTAMP:20260424T032803Z
URL:https://business.beaufortchamber.org/events/details/maximize-your-membership-13311
END:VEVENT

END:VCALENDAR
