BEGIN:VCALENDAR
VERSION:2.0
PRODID:-//ChamberMaster//Event Calendar 2.0//EN
METHOD:PUBLISH
X-PUBLISHED-TTL:P3D
REFRESH-INTERVAL:P3D
CALSCALE:GREGORIAN
BEGIN:VEVENT
DTSTART:20200123T130000Z
DTEND:20200123T140000Z
X-MICROSOFT-CDO-ALLDAYEVENT:FALSE
SUMMARY:MCAS Base Briefing/Tri-Command Outstanding Military Family
DESCRIPTION:MCAS Beaufort will host a base briefing and the presentation of the Military Family of the Quarter award.  Light refreshments will be served.  The event is sponsored by Atlantic Marine Corps Communities at Tri-Command.
X-ALT-DESC;FMTTYPE=text/html:MCAS Beaufort will host a base briefing and the presentation of the Military Family of the Quarter award.&nbsp\; Light refreshments will be served.&nbsp\; The event is sponsored by Atlantic Marine Corps Communities at Tri-Command.
LOCATION:Marine Corps Air Station Beaufort
UID:e.1212.12488
SEQUENCE:3
DTSTAMP:20260420T194720Z
URL:https://business.beaufortchamber.org/events/details/mcas-base-briefing-tri-command-outstanding-military-family-12488
END:VEVENT

END:VCALENDAR
