BEGIN:VCALENDAR
VERSION:2.0
PRODID:-//ChamberMaster//Event Calendar 2.0//EN
METHOD:PUBLISH
X-PUBLISHED-TTL:P3D
REFRESH-INTERVAL:P3D
CALSCALE:GREGORIAN
BEGIN:VEVENT
DTSTART:20190516T200000Z
DTEND:20190516T230000Z
X-MICROSOFT-CDO-ALLDAYEVENT:FALSE
SUMMARY:Meet the Chef
DESCRIPTION:Drop in to the TCL New River Campus to meet Chef Miles Huff\, Dean of Culinary & Hospitality/Tourism programs at Technical College of the Lowcountry. \n\n	Learn more about the new and improved Culinary and Hospitality programs available this Fall.\n	See the architectural plans for the future Culinary Institute of the South and Interpretive Center.\n	Admissions and Financial Aid reps will be on hand to answer questions and assist students with their application or FAFSA.
X-ALT-DESC;FMTTYPE=text/html:Drop in to the TCL New River Campus to meet Chef Miles Huff\, Dean of Culinary &amp\; Hospitality/Tourism programs at Technical College of the Lowcountry.&nbsp\;\n<ul>\n	<li>Learn more about the new and improved Culinary and Hospitality programs available this Fall.</li>\n	<li>See the architectural plans for the future Culinary Institute of the South and Interpretive Center.</li>\n	<li>Admissions and Financial Aid reps will be on hand to answer questions and assist students with their application or FAFSA.</li>\n</ul>\n
LOCATION:TCL New River Campus Lobby 100 Community College Drive Bluffton\, SC 29909
UID:e.1212.11591
SEQUENCE:3
DTSTAMP:20260422T175022Z
URL:https://business.beaufortchamber.org/events/details/meet-the-chef-11591
END:VEVENT

END:VCALENDAR
