BEGIN:VCALENDAR
VERSION:2.0
PRODID:-//ChamberMaster//Event Calendar 2.0//EN
METHOD:PUBLISH
X-PUBLISHED-TTL:P3D
REFRESH-INTERVAL:P3D
CALSCALE:GREGORIAN
BEGIN:VEVENT
DTSTART:20190122T170000Z
DTEND:20190122T180000Z
X-MICROSOFT-CDO-ALLDAYEVENT:FALSE
SUMMARY:Meritus Builders Groundbreaking Luncheon
DESCRIPTION:New community\, new home!
X-ALT-DESC;FMTTYPE=text/html:New community\, new home!
LOCATION:South Brickyard River Club 403 Brickyard Point Rd. Lady's Island
UID:e.1212.10754
SEQUENCE:3
DTSTAMP:20260422T234105Z
URL:https://business.beaufortchamber.org/events/details/meritus-builders-groundbreaking-luncheon-10754
END:VEVENT

END:VCALENDAR
