BEGIN:VCALENDAR
VERSION:2.0
PRODID:-//ChamberMaster//Event Calendar 2.0//EN
METHOD:PUBLISH
X-PUBLISHED-TTL:P3D
REFRESH-INTERVAL:P3D
CALSCALE:GREGORIAN
BEGIN:VEVENT
DTSTART:20190125T133000Z
DTEND:20190125T143000Z
X-MICROSOFT-CDO-ALLDAYEVENT:FALSE
SUMMARY:Military Enhancement Committee Meeting
DESCRIPTION:Military Enhancement Committee Meeting
X-ALT-DESC;FMTTYPE=text/html:Military Enhancement Committee Meeting
LOCATION:Carnegie Conference Room Chamber Office 701 Craven Street Beaufort\, SC 29902
UID:e.1212.10761
SEQUENCE:3
DTSTAMP:20260422T234231Z
URL:https://business.beaufortchamber.org/events/details/military-enhancement-committee-meeting-10761
END:VEVENT

END:VCALENDAR
