BEGIN:VCALENDAR
VERSION:2.0
PRODID:-//ChamberMaster//Event Calendar 2.0//EN
METHOD:PUBLISH
X-PUBLISHED-TTL:P3D
REFRESH-INTERVAL:P3D
CALSCALE:GREGORIAN
BEGIN:VEVENT
DTSTART;VALUE=DATE:20080314
DTEND;VALUE=DATE:20080315
TRANSP:TRANSPARENT
X-MICROSOFT-CDO-ALLDAYEVENT:TRUE
SUMMARY:Mokume Gold Leaf Class
DESCRIPTION:Call for details and supplies you will need.  Reservations required.  Fee: $45.
X-ALT-DESC;FMTTYPE=text/html:Call for details and supplies you will need.  Reservations required.  Fee: $45.
LOCATION:
UID:e.1212.2229
SEQUENCE:3
DTSTAMP:20260425T023909Z
URL:https://business.beaufortchamber.org/events/details/mokume-gold-leaf-class-03-14-2008-2229
END:VEVENT

END:VCALENDAR
