BEGIN:VCALENDAR
VERSION:2.0
PRODID:-//ChamberMaster//Event Calendar 2.0//EN
METHOD:PUBLISH
X-PUBLISHED-TTL:P3D
REFRESH-INTERVAL:P3D
CALSCALE:GREGORIAN
BEGIN:VEVENT
DTSTART;VALUE=DATE:20081125
DTEND;VALUE=DATE:20081126
TRANSP:TRANSPARENT
X-MICROSOFT-CDO-ALLDAYEVENT:TRUE
SUMMARY:Mortgage Default and Foreclosure Clinic
DESCRIPTION:Clinic is provided by SC Foreclosure Task Force.  Free and open to the public.   Registration is required to attend.   Clinics also provided in Spanish.    Ask for ID# 201.
X-ALT-DESC;FMTTYPE=text/html:Clinic is provided by SC Foreclosure Task Force.  Free and open to the public.   Registration is required to attend.   Clinics also provided in Spanish.    Ask for ID# 201.
LOCATION:
UID:e.1212.2825
SEQUENCE:3
DTSTAMP:20260425T145709Z
URL:https://business.beaufortchamber.org/events/details/mortgage-default-and-foreclosure-clinic-11-25-2008-2825
END:VEVENT

END:VCALENDAR
