BEGIN:VCALENDAR
VERSION:2.0
PRODID:-//ChamberMaster//Event Calendar 2.0//EN
METHOD:PUBLISH
X-PUBLISHED-TTL:P3D
REFRESH-INTERVAL:P3D
CALSCALE:GREGORIAN
BEGIN:VEVENT
DTSTART;VALUE=DATE:20080314
DTEND;VALUE=DATE:20080315
TRANSP:TRANSPARENT
X-MICROSOFT-CDO-ALLDAYEVENT:TRUE
SUMMARY:Music at St. Helena's - Friday Organ Concert
DESCRIPTION:S. Wayne Foster is the Organist-in-Residence at the First Congregational Church in Los Angeles\, CA.  Free admission.
X-ALT-DESC;FMTTYPE=text/html:S. Wayne Foster is the Organist-in-Residence at the First Congregational Church in Los Angeles\, CA.  Free admission.\n
LOCATION:
UID:e.1212.2311
SEQUENCE:3
DTSTAMP:20260425T024825Z
URL:https://business.beaufortchamber.org/events/details/music-at-st-helena-s-friday-organ-concert-03-14-2008-2311
END:VEVENT

END:VCALENDAR
