BEGIN:VCALENDAR
VERSION:2.0
PRODID:-//ChamberMaster//Event Calendar 2.0//EN
METHOD:PUBLISH
X-PUBLISHED-TTL:P3D
REFRESH-INTERVAL:P3D
CALSCALE:GREGORIAN
BEGIN:VEVENT
DTSTART;VALUE=DATE:20080328
DTEND;VALUE=DATE:20080329
TRANSP:TRANSPARENT
X-MICROSOFT-CDO-ALLDAYEVENT:TRUE
SUMMARY:Music at St. Helena's - Friday Organ Concert
DESCRIPTION:Preston Smith is Director of Music at the Roman Catholic church of the Ascension\, New York City.  Free admission.
X-ALT-DESC;FMTTYPE=text/html:Preston Smith is Director of Music at the Roman Catholic church of the Ascension\, New York City.  Free admission.
LOCATION:Beaufort Historic District
UID:e.1212.2312
SEQUENCE:3
DTSTAMP:20260425T024923Z
URL:https://business.beaufortchamber.org/events/details/music-at-st-helena-s-friday-organ-concert-03-28-2008-2312
END:VEVENT

END:VCALENDAR
