BEGIN:VCALENDAR
VERSION:2.0
PRODID:-//ChamberMaster//Event Calendar 2.0//EN
METHOD:PUBLISH
X-PUBLISHED-TTL:P3D
REFRESH-INTERVAL:P3D
CALSCALE:GREGORIAN
BEGIN:VEVENT
DTSTART;VALUE=DATE:20081017
DTEND;VALUE=DATE:20081018
TRANSP:TRANSPARENT
X-MICROSOFT-CDO-ALLDAYEVENT:TRUE
SUMMARY:Music at St. Helena's - Friday Organ Concert
DESCRIPTION:Francois Olivier has been resident choir organist at Saint Eustache church in Paris\, France since 2004.  Free admission.
X-ALT-DESC;FMTTYPE=text/html:Francois Olivier has been resident choir organist at Saint Eustache church in Paris\, France since 2004.  Free admission.
LOCATION:
UID:e.1212.2723
SEQUENCE:3
DTSTAMP:20260425T140129Z
URL:https://business.beaufortchamber.org/events/details/music-at-st-helena-s-friday-organ-concert-10-17-2008-2723
END:VEVENT

END:VCALENDAR
