BEGIN:VCALENDAR
VERSION:2.0
PRODID:-//ChamberMaster//Event Calendar 2.0//EN
METHOD:PUBLISH
X-PUBLISHED-TTL:P3D
REFRESH-INTERVAL:P3D
CALSCALE:GREGORIAN
BEGIN:VEVENT
DTSTART;VALUE=DATE:20081024
DTEND;VALUE=DATE:20081025
TRANSP:TRANSPARENT
X-MICROSOFT-CDO-ALLDAYEVENT:TRUE
SUMMARY:Music at St. Helena's - Friday Organ Concert
DESCRIPTION:Dr. Gail Archer organist at Vassar College and member of the Manhattan School of Music in New York City\, New York.  Free admission.
X-ALT-DESC;FMTTYPE=text/html:Dr. Gail Archer organist at Vassar College and member of the Manhattan School of Music in New York City\, New York.  Free admission.
LOCATION:
UID:e.1212.2724
SEQUENCE:3
DTSTAMP:20260425T150017Z
URL:https://business.beaufortchamber.org/events/details/music-at-st-helena-s-friday-organ-concert-10-24-2008-2724
END:VEVENT

END:VCALENDAR
