BEGIN:VCALENDAR
VERSION:2.0
PRODID:-//ChamberMaster//Event Calendar 2.0//EN
METHOD:PUBLISH
X-PUBLISHED-TTL:P3D
REFRESH-INTERVAL:P3D
CALSCALE:GREGORIAN
BEGIN:VEVENT
DTSTART;VALUE=DATE:20080304
DTEND;VALUE=DATE:20080305
TRANSP:TRANSPARENT
X-MICROSOFT-CDO-ALLDAYEVENT:TRUE
SUMMARY:National Federation of Independent Business Seminar
DESCRIPTION:"Keeping Small Business Out of Court: Ten Ways Small-Business Owners Can Avoid Lawsuits"\; Seminar with national experts on how small businesses can take steps to avoid a lawsuit\; $25
X-ALT-DESC;FMTTYPE=text/html:"Keeping Small Business Out of Court: Ten Ways Small-Business Owners Can Avoid Lawsuits"\; Seminar with national experts on how small businesses can take steps to avoid a lawsuit\; $25
LOCATION:
UID:e.1212.2153
SEQUENCE:3
DTSTAMP:20260425T025046Z
URL:https://business.beaufortchamber.org/events/details/national-federation-of-independent-business-seminar-03-04-2008-2153
END:VEVENT

END:VCALENDAR
