BEGIN:VCALENDAR
VERSION:2.0
PRODID:-//ChamberMaster//Event Calendar 2.0//EN
METHOD:PUBLISH
X-PUBLISHED-TTL:P3D
REFRESH-INTERVAL:P3D
CALSCALE:GREGORIAN
BEGIN:VEVENT
DTSTART:20251007T210000Z
DTEND:20251007T230000Z
X-MICROSOFT-CDO-ALLDAYEVENT:FALSE
SUMMARY:National Night Out with Port Royal Police Department
DESCRIPTION:Join the Port Royal Police Department for National Night Out. A relaxed evening with music\, s'mores\, and hot chocolate\, giving families and neighbors the opportunity to connect with their local police department.
X-ALT-DESC;FMTTYPE=text/html:Join the Port Royal Police Department for National Night Out. A relaxed evening with music\, s&#39\;mores\, and hot chocolate\, giving families and neighbors the opportunity to connect with their local police department.
LOCATION:John Parker Park Casablanca Circle Port Royal
UID:e.1212.14941
SEQUENCE:3
DTSTAMP:20260424T075941Z
URL:https://business.beaufortchamber.org/events/details/national-night-out-with-port-royal-police-department-14941
END:VEVENT

END:VCALENDAR
