BEGIN:VCALENDAR
VERSION:2.0
PRODID:-//ChamberMaster//Event Calendar 2.0//EN
METHOD:PUBLISH
X-PUBLISHED-TTL:P3D
REFRESH-INTERVAL:P3D
CALSCALE:GREGORIAN
BEGIN:VEVENT
DTSTART;VALUE=DATE:20080220
DTEND;VALUE=DATE:20080221
TRANSP:TRANSPARENT
X-MICROSOFT-CDO-ALLDAYEVENT:TRUE
SUMMARY:Ndebele Bracelet Class
DESCRIPTION:Call or email for details on class and supplies needed.  Reservations required.  Cost:  $27.
X-ALT-DESC;FMTTYPE=text/html:Call or email for details on class and supplies needed.  Reservations required.  Cost:  $27.
LOCATION:
UID:e.1212.2179
SEQUENCE:3
DTSTAMP:20260425T005738Z
URL:https://business.beaufortchamber.org/events/details/ndebele-bracelet-class-02-20-2008-2179
END:VEVENT

END:VCALENDAR
