BEGIN:VCALENDAR
VERSION:2.0
PRODID:-//ChamberMaster//Event Calendar 2.0//EN
METHOD:PUBLISH
X-PUBLISHED-TTL:P3D
REFRESH-INTERVAL:P3D
CALSCALE:GREGORIAN
BEGIN:VEVENT
DTSTART;VALUE=DATE:20071204
DTEND;VALUE=DATE:20071205
TRANSP:TRANSPARENT
X-MICROSOFT-CDO-ALLDAYEVENT:TRUE
SUMMARY:New Member Reception
DESCRIPTION:A chance for our new members to meet and mingle with the Chamber board\, staff and ambassadors\; attendees will learn more about what services the Beaufort Regional Chamber offers its members
X-ALT-DESC;FMTTYPE=text/html:A chance for our new members to meet and mingle with the Chamber board\, staff and ambassadors\; attendees will learn more about what services the Beaufort Regional Chamber offers its members
LOCATION:Beaufort
UID:e.1212.1942
SEQUENCE:3
DTSTAMP:20260424T221434Z
URL:https://business.beaufortchamber.org/events/details/new-member-reception-12-04-2007-1942
END:VEVENT

END:VCALENDAR
