BEGIN:VCALENDAR
VERSION:2.0
PRODID:-//ChamberMaster//Event Calendar 2.0//EN
METHOD:PUBLISH
X-PUBLISHED-TTL:P3D
REFRESH-INTERVAL:P3D
CALSCALE:GREGORIAN
BEGIN:VEVENT
DTSTART;VALUE=DATE:20070607
DTEND;VALUE=DATE:20070608
TRANSP:TRANSPARENT
X-MICROSOFT-CDO-ALLDAYEVENT:TRUE
SUMMARY:New Member Reception - June 2007
DESCRIPTION:
X-ALT-DESC;FMTTYPE=text/html:
LOCATION:
UID:e.1212.1465
SEQUENCE:3
DTSTAMP:20260424T142244Z
URL:https://business.beaufortchamber.org/events/details/new-member-reception-june-2007-06-07-2007-1465
END:VEVENT

END:VCALENDAR
