BEGIN:VCALENDAR
VERSION:2.0
PRODID:-//ChamberMaster//Event Calendar 2.0//EN
METHOD:PUBLISH
X-PUBLISHED-TTL:P3D
REFRESH-INTERVAL:P3D
CALSCALE:GREGORIAN
BEGIN:VEVENT
DTSTART;VALUE=DATE:20081003
DTEND;VALUE=DATE:20081004
TRANSP:TRANSPARENT
X-MICROSOFT-CDO-ALLDAYEVENT:TRUE
SUMMARY:Non Competition/Non Shrimp Booth
DESCRIPTION:
X-ALT-DESC;FMTTYPE=text/html:
LOCATION:
UID:e.1212.2650
SEQUENCE:3
DTSTAMP:20260425T135027Z
URL:https://business.beaufortchamber.org/events/details/non-competition-non-shrimp-booth-10-03-2008-2650
END:VEVENT

END:VCALENDAR
