BEGIN:VCALENDAR
VERSION:2.0
PRODID:-//ChamberMaster//Event Calendar 2.0//EN
METHOD:PUBLISH
X-PUBLISHED-TTL:P3D
REFRESH-INTERVAL:P3D
CALSCALE:GREGORIAN
BEGIN:VEVENT
DTSTART;VALUE=DATE:20080313
DTEND;VALUE=DATE:20080314
TRANSP:TRANSPARENT
X-MICROSOFT-CDO-ALLDAYEVENT:TRUE
SUMMARY:Northern Beaufort County Democratic Club Meeting
DESCRIPTION:Speakers: Blaine Lotz and Rob Miller\, Democratic candidates for the U.S. House of Representatives\, S.C. 2nd Congressional District
X-ALT-DESC;FMTTYPE=text/html:Speakers: Blaine Lotz and Rob Miller\, Democratic candidates for the U.S. House of Representatives\, S.C. 2nd Congressional District
LOCATION:Lady's Island
UID:e.1212.2307
SEQUENCE:3
DTSTAMP:20260425T024906Z
URL:https://business.beaufortchamber.org/events/details/northern-beaufort-county-democratic-club-meeting-03-13-2008-2307
END:VEVENT

END:VCALENDAR
