BEGIN:VCALENDAR
VERSION:2.0
PRODID:-//ChamberMaster//Event Calendar 2.0//EN
METHOD:PUBLISH
X-PUBLISHED-TTL:P3D
REFRESH-INTERVAL:P3D
CALSCALE:GREGORIAN
BEGIN:VEVENT
DTSTART:20190111T230000Z
DTEND:20190112T020000Z
X-MICROSOFT-CDO-ALLDAYEVENT:FALSE
SUMMARY:Notes: An Evening of Musical Storytelling & Casual Conversation
DESCRIPTION:The third annual gala event to benefit the\n\nBoys & Girls Clubs of Northern Beaufort County.\n\n\n\nNotes: An Evening of Musical Storytelling & Casual Conversation presents "The Sound of Sinatra with the Magic of Motown." Featuring Americas Got Talent 2011 Winner\, Landau Eugene Murphy Jr. \n\n\n\nSponsorships and tables are available\, seating is limited. For sponsorship information call the Boys & Girls Clubs of the Lowcountrys office: 843-379-5430\, or email james.dismond@bgclowcountry.org\n\n\n\nSponsorship's range from $1\,000 - $10\,000.
X-ALT-DESC;FMTTYPE=text/html:<span style="color: rgb(29\, 33\, 41)\; font-family: system-ui\, -apple-system\, system-ui\, &quot\;.SFNSText-Regular&quot\;\, sans-serif\; font-size: 14px\;">The third annual gala event to benefit the</span><br style="color: rgb(29\, 33\, 41)\; font-family: system-ui\, -apple-system\, system-ui\, &quot\;.SFNSText-Regular&quot\;\, sans-serif\; font-size: 14px\;" />\n<span style="color: rgb(29\, 33\, 41)\; font-family: system-ui\, -apple-system\, system-ui\, &quot\;.SFNSText-Regular&quot\;\, sans-serif\; font-size: 14px\;">Boys &amp\; Girls Clubs of Northern Beaufort County.</span><br style="color: rgb(29\, 33\, 41)\; font-family: system-ui\, -apple-system\, system-ui\, &quot\;.SFNSText-Regular&quot\;\, sans-serif\; font-size: 14px\;" />\n<br style="color: rgb(29\, 33\, 41)\; font-family: system-ui\, -apple-system\, system-ui\, &quot\;.SFNSText-Regular&quot\;\, sans-serif\; font-size: 14px\;" />\n<span style="color: rgb(29\, 33\, 41)\; font-family: system-ui\, -apple-system\, system-ui\, &quot\;.SFNSText-Regular&quot\;\, sans-serif\; font-size: 14px\;">Notes: An Evening of Musical Storytelling &amp\; Casual Conversation presents &quot\;The Sound of Sinatra with the Magic of Motown.&quot\; Featuring Americas Got Talent 2011 Winner\, Landau Eugene Murphy Jr.&nbsp\;</span><br style="color: rgb(29\, 33\, 41)\; font-family: system-ui\, -apple-system\, system-ui\, &quot\;.SFNSText-Regular&quot\;\, sans-serif\; font-size: 14px\;" />\n<br style="color: rgb(29\, 33\, 41)\; font-family: system-ui\, -apple-system\, system-ui\, &quot\;.SFNSText-Regular&quot\;\, sans-serif\; font-size: 14px\;" />\n<span style="color: rgb(29\, 33\, 41)\; font-family: system-ui\, -apple-system\, system-ui\, &quot\;.SFNSText-Regular&quot\;\, sans-serif\; font-size: 14px\;">Sponsorships and tables are available\, seating is limited. For sponsorship information call the Boys &amp\; Girls Clubs of the Lowcountrys office: 843-379-5430\, or email james.dismond@bgclowcountry.org</span><br style="color: rgb(29\, 33\, 41)\; font-family: system-ui\, -apple-system\, system-ui\, &quot\;.SFNSText-Regular&quot\;\, sans-serif\; font-size: 14px\;" />\n<br style="color: rgb(29\, 33\, 41)\; font-family: system-ui\, -apple-system\, system-ui\, &quot\;.SFNSText-Regular&quot\;\, sans-serif\; font-size: 14px\;" />\n<span style="color: rgb(29\, 33\, 41)\; font-family: system-ui\, -apple-system\, system-ui\, &quot\;.SFNSText-Regular&quot\;\, sans-serif\; font-size: 14px\;">Sponsorship&#39\;s range from $1\,000 - $10\,000.</span>
LOCATION:Tabby Place at the Beaufort Inn 913 Port Republic Street Beaufort\, SC
UID:e.1212.10365
SEQUENCE:3
DTSTAMP:20260422T234447Z
URL:https://business.beaufortchamber.org/events/details/notes-an-evening-of-musical-storytelling-casual-conversation-10365
END:VEVENT

END:VCALENDAR
