BEGIN:VCALENDAR
VERSION:2.0
PRODID:-//ChamberMaster//Event Calendar 2.0//EN
METHOD:PUBLISH
X-PUBLISHED-TTL:P3D
REFRESH-INTERVAL:P3D
CALSCALE:GREGORIAN
BEGIN:VEVENT
DTSTART;VALUE=DATE:20081113
DTEND;VALUE=DATE:20081114
TRANSP:TRANSPARENT
X-MICROSOFT-CDO-ALLDAYEVENT:TRUE
SUMMARY:NuBarter Business After Hours
DESCRIPTION:We will offer complimentary chair massages\, treatment demonstrations\, door prizes\, holiday gift specials and facility tours.  Hors d' oeuvres will be served.  Free to NuBarter Members and the general public.
X-ALT-DESC;FMTTYPE=text/html:We will offer complimentary chair massages\, treatment demonstrations\, door prizes\, holiday gift specials and facility tours.  Hors d' oeuvres will be served.  Free to NuBarter Members and the general public.
LOCATION:
UID:e.1212.2790
SEQUENCE:3
DTSTAMP:20260425T145737Z
URL:https://business.beaufortchamber.org/events/details/nubarter-business-after-hours-11-13-2008-2790
END:VEVENT

END:VCALENDAR
