BEGIN:VCALENDAR
VERSION:2.0
PRODID:-//ChamberMaster//Event Calendar 2.0//EN
METHOD:PUBLISH
X-PUBLISHED-TTL:P3D
REFRESH-INTERVAL:P3D
CALSCALE:GREGORIAN
BEGIN:VEVENT
DTSTART;VALUE=DATE:20081118
DTEND;VALUE=DATE:20081119
TRANSP:TRANSPARENT
X-MICROSOFT-CDO-ALLDAYEVENT:TRUE
SUMMARY:NuBarter's 6th Annual Holiday Gift and Trade Show
DESCRIPTION:Trade show offering everything from products and services to gift cards.  There will also be a silent auction.  Free massages too !    Free and open to the public.
X-ALT-DESC;FMTTYPE=text/html:Trade show offering everything from products and services to gift cards.  There will also be a silent auction.  Free massages too !    Free and open to the public.
LOCATION:
UID:e.1212.2793
SEQUENCE:3
DTSTAMP:20260425T161023Z
URL:https://business.beaufortchamber.org/events/details/nubarter-s-6th-annual-holiday-gift-and-trade-show-11-18-2008-2793
END:VEVENT

END:VCALENDAR
