BEGIN:VCALENDAR
VERSION:2.0
PRODID:-//ChamberMaster//Event Calendar 2.0//EN
METHOD:PUBLISH
X-PUBLISHED-TTL:P3D
REFRESH-INTERVAL:P3D
CALSCALE:GREGORIAN
BEGIN:VEVENT
DTSTART;VALUE=DATE:20081122
DTEND;VALUE=DATE:20081123
TRANSP:TRANSPARENT
X-MICROSOFT-CDO-ALLDAYEVENT:TRUE
SUMMARY:NuBarter to Offer Holiday Portraits
DESCRIPTION:Come have your holiday portrait taken at their newest location.  The public is invited to participate.  The sitting fee will be waived during this time.  There will also be giveaway prizes and refreshments.   Portrait sessions may be scheduled through Thursday\, November 20th.
X-ALT-DESC;FMTTYPE=text/html:Come have your holiday portrait taken at their newest location.  The public is invited to participate.  The sitting fee will be waived during this time.  There will also be giveaway prizes and refreshments.   Portrait sessions may be scheduled through Thursday\, November 20th.
LOCATION:
UID:e.1212.2826
SEQUENCE:3
DTSTAMP:20260425T151826Z
URL:https://business.beaufortchamber.org/events/details/nubarter-to-offer-holiday-portraits-11-22-2008-2826
END:VEVENT

END:VCALENDAR
