BEGIN:VCALENDAR
VERSION:2.0
PRODID:-//ChamberMaster//Event Calendar 2.0//EN
METHOD:PUBLISH
X-PUBLISHED-TTL:P3D
REFRESH-INTERVAL:P3D
CALSCALE:GREGORIAN
BEGIN:VEVENT
DTSTART;VALUE=DATE:20080321
DTEND;VALUE=DATE:20080322
TRANSP:TRANSPARENT
X-MICROSOFT-CDO-ALLDAYEVENT:TRUE
SUMMARY:Old Towne Bluffton Block Party
DESCRIPTION:Fun\, food\, art\, crafts and music every third Friday of the month in front of Bluffton Antiques and Gifts\n(The Bag).
X-ALT-DESC;FMTTYPE=text/html:Fun\, food\, art\, crafts and music every third Friday of the month in front of Bluffton Antiques and Gifts\n(The Bag).
LOCATION:
UID:e.1212.2335
SEQUENCE:3
DTSTAMP:20260425T024655Z
URL:https://business.beaufortchamber.org/events/details/old-towne-bluffton-block-party-03-21-2008-2335
END:VEVENT

END:VCALENDAR
