BEGIN:VCALENDAR
VERSION:2.0
PRODID:-//ChamberMaster//Event Calendar 2.0//EN
METHOD:PUBLISH
X-PUBLISHED-TTL:P3D
REFRESH-INTERVAL:P3D
CALSCALE:GREGORIAN
BEGIN:VEVENT
DTSTART;VALUE=DATE:20080124
DTEND;VALUE=DATE:20080125
TRANSP:TRANSPARENT
X-MICROSOFT-CDO-ALLDAYEVENT:TRUE
SUMMARY:Opening of Photo Exhibit\, 'Bay Street During the Union Occupation: 1861 - 1865'
DESCRIPTION:This will be a permanent exhibit and will continue to be free.
X-ALT-DESC;FMTTYPE=text/html:This will be a permanent exhibit and will continue to be free.
LOCATION:Beaufort Historic District
UID:e.1212.2113
SEQUENCE:3
DTSTAMP:20260424T234904Z
URL:https://business.beaufortchamber.org/events/details/opening-of-photo-exhibit-bay-street-during-the-union-occupation-1861-1865-01-24-2008-2113
END:VEVENT

END:VCALENDAR
