BEGIN:VCALENDAR
VERSION:2.0
PRODID:-//ChamberMaster//Event Calendar 2.0//EN
METHOD:PUBLISH
X-PUBLISHED-TTL:P3D
REFRESH-INTERVAL:P3D
CALSCALE:GREGORIAN
BEGIN:VEVENT
DTSTART;VALUE=DATE:20071130
DTEND;VALUE=DATE:20071201
TRANSP:TRANSPARENT
X-MICROSOFT-CDO-ALLDAYEVENT:TRUE
SUMMARY:Opening Reception
DESCRIPTION:Reception with the artists
X-ALT-DESC;FMTTYPE=text/html:Reception with the artists
LOCATION:Beaufort Historic District
UID:e.1212.1983
SEQUENCE:3
DTSTAMP:20260424T210929Z
URL:https://business.beaufortchamber.org/events/details/opening-reception-11-30-2007-1983
END:VEVENT

END:VCALENDAR
