BEGIN:VCALENDAR
VERSION:2.0
PRODID:-//ChamberMaster//Event Calendar 2.0//EN
METHOD:PUBLISH
X-PUBLISHED-TTL:P3D
REFRESH-INTERVAL:P3D
CALSCALE:GREGORIAN
BEGIN:VEVENT
DTSTART;VALUE=DATE:20080112
DTEND;VALUE=DATE:20080113
TRANSP:TRANSPARENT
X-MICROSOFT-CDO-ALLDAYEVENT:TRUE
SUMMARY:Opening Reception - Artist Blanche Douglas 'Abdication'
DESCRIPTION:"Abdication" surrender to form\, light\, and color by Blanche Douglas  (painting\, sculpture\, drawing\, etching).\nOn display through January 18\, 2008.
X-ALT-DESC;FMTTYPE=text/html:"Abdication" surrender to form\, light\, and color by Blanche Douglas  (painting\, sculpture\, drawing\, etching).\nOn display through January 18\, 2008.
LOCATION:
UID:e.1212.2109
SEQUENCE:3
DTSTAMP:20260424T234121Z
URL:https://business.beaufortchamber.org/events/details/opening-reception-artist-blanche-douglas-abdication-01-12-2008-2109
END:VEVENT

END:VCALENDAR
