BEGIN:VCALENDAR
VERSION:2.0
PRODID:-//ChamberMaster//Event Calendar 2.0//EN
METHOD:PUBLISH
X-PUBLISHED-TTL:P3D
REFRESH-INTERVAL:P3D
CALSCALE:GREGORIAN
BEGIN:VEVENT
DTSTART;VALUE=DATE:20080210
DTEND;VALUE=DATE:20080211
TRANSP:TRANSPARENT
X-MICROSOFT-CDO-ALLDAYEVENT:TRUE
SUMMARY:Organ and Piano Concert
DESCRIPTION:This program will be presented by Arthur Tollefson\, former Dean of the Music School at UNC-Greensboro \nand Charles D. Frost.  It will feature original works for the organ and piano.
X-ALT-DESC;FMTTYPE=text/html:This program will be presented by Arthur Tollefson\, former Dean of the Music School at UNC-Greensboro \nand Charles D. Frost.  It will feature original works for the organ and piano.
LOCATION:
UID:e.1212.1853
SEQUENCE:3
DTSTAMP:20260425T024148Z
URL:https://business.beaufortchamber.org/events/details/organ-and-piano-concert-02-10-2008-1853
END:VEVENT

END:VCALENDAR
