BEGIN:VCALENDAR
VERSION:2.0
PRODID:-//ChamberMaster//Event Calendar 2.0//EN
METHOD:PUBLISH
X-PUBLISHED-TTL:P3D
REFRESH-INTERVAL:P3D
CALSCALE:GREGORIAN
BEGIN:VEVENT
DTSTART;VALUE=DATE:20080213
DTEND;VALUE=DATE:20080214
TRANSP:TRANSPARENT
X-MICROSOFT-CDO-ALLDAYEVENT:TRUE
SUMMARY:Palm Meadows Court Caregiver Support Group Meeting
DESCRIPTION:Free Brunch
X-ALT-DESC;FMTTYPE=text/html:Free Brunch
LOCATION:Hilton Head Island
UID:e.1212.2169
SEQUENCE:3
DTSTAMP:20260425T010456Z
URL:https://business.beaufortchamber.org/events/details/palm-meadows-court-caregiver-support-group-meeting-02-13-2008-2169
END:VEVENT

END:VCALENDAR
