BEGIN:VCALENDAR
VERSION:2.0
PRODID:-//ChamberMaster//Event Calendar 2.0//EN
METHOD:PUBLISH
X-PUBLISHED-TTL:P3D
REFRESH-INTERVAL:P3D
CALSCALE:GREGORIAN
BEGIN:VEVENT
DTSTART;VALUE=DATE:20080929
DTEND;VALUE=DATE:20080930
TRANSP:TRANSPARENT
X-MICROSOFT-CDO-ALLDAYEVENT:TRUE
SUMMARY:Palmetto Animal League (PAL) Annual Golf Tournament
DESCRIPTION:Spend the day at beautiful Belfair\, on the spectacular West course!  The golf format will be a four-person shamble (best drive is selected and all four players play their own ball from there)\, two best net scores. Awards will be given for the teams with the lowest scores\, longest drive in the fairway\, closest to the pin\, straightest drive\, and more. A package including 2 mulligans\, 1 free kick\, and 5 raffle tickets will be available for $20 each. Individuals and teams are welcome! Find more information at the link below. \n\n$175/person
X-ALT-DESC;FMTTYPE=text/html:Spend the day at beautiful Belfair\, on the spectacular West course!  The golf format will be a four-person shamble (best drive is selected and all four players play their own ball from there)\, two best net scores. Awards will be given for the teams with the lowest scores\, longest drive in the fairway\, closest to the pin\, straightest drive\, and more. A package including 2 mulligans\, 1 free kick\, and 5 raffle tickets will be available for $20 each. Individuals and teams are welcome! Find more information at the link below. <BR><BR>$175/person
LOCATION:
UID:e.1212.2469
SEQUENCE:3
DTSTAMP:20260425T122839Z
URL:https://business.beaufortchamber.org/events/details/palmetto-animal-league-pal-annual-golf-tournament-09-29-2008-2469
END:VEVENT

END:VCALENDAR
