BEGIN:VCALENDAR
VERSION:2.0
PRODID:-//ChamberMaster//Event Calendar 2.0//EN
METHOD:PUBLISH
X-PUBLISHED-TTL:P3D
REFRESH-INTERVAL:P3D
CALSCALE:GREGORIAN
BEGIN:VEVENT
DTSTART;VALUE=DATE:20081128
DTEND;VALUE=DATE:20081129
TRANSP:TRANSPARENT
X-MICROSOFT-CDO-ALLDAYEVENT:TRUE
SUMMARY:Palmetto Bluff Arts Commision - Emerging Artist Series
DESCRIPTION:Opera Tenor\, Jason Collins to perform at the Riverhouse Ballroom.  He made his debut with the San Francisco Opera and Canadian Opera.  This season he will debut with the Michigan Opera Theater and appear at the Kimmel Center in Philadelphia.  Performance 7:30 - 9:00 to be followed by an Artist Salon  Reception in the Wine Cellar from 9:00 - 10:00.  RSVP by November 24th.    Tickets:  $75 Performance and Reception      Tickets: $50 Performance only.
X-ALT-DESC;FMTTYPE=text/html:Opera Tenor\, Jason Collins to perform at the Riverhouse Ballroom.  He made his debut with the San Francisco Opera and Canadian Opera.  This season he will debut with the Michigan Opera Theater and appear at the Kimmel Center in Philadelphia.  Performance 7:30 - 9:00 to be followed by an Artist Salon  Reception in the Wine Cellar from 9:00 - 10:00.  RSVP by November 24th.    Tickets:  $75 Performance and Reception      Tickets: $50 Performance only.
LOCATION:
UID:e.1212.2791
SEQUENCE:3
DTSTAMP:20260425T151754Z
URL:https://business.beaufortchamber.org/events/details/palmetto-bluff-arts-commision-emerging-artist-series-11-28-2008-2791
END:VEVENT

END:VCALENDAR
