BEGIN:VCALENDAR
VERSION:2.0
PRODID:-//ChamberMaster//Event Calendar 2.0//EN
METHOD:PUBLISH
X-PUBLISHED-TTL:P3D
REFRESH-INTERVAL:P3D
CALSCALE:GREGORIAN
BEGIN:VEVENT
DTSTART;VALUE=DATE:20081018
DTEND;VALUE=DATE:20081019
TRANSP:TRANSPARENT
X-MICROSOFT-CDO-ALLDAYEVENT:TRUE
SUMMARY:Panhellenic Literacy Brunch
DESCRIPTION:All area sorority alumnae and all friends of literacy are invited to join the Lowcountry Alumnae Club of Pi Beta Phi.  Guest speaker includes local mystery writer\, Linda Shirley Robertson.  Mail a $35.00 check payable to: Lowcountry AC of Pi Beta Phi including your sorority\, school and initiation date to Peggy Hubright at 1303 Rowland Drive\, Dataw Island\, SC 29920
X-ALT-DESC;FMTTYPE=text/html:All area sorority alumnae and all friends of literacy are invited to join the Lowcountry Alumnae Club of Pi Beta Phi.  Guest speaker includes local mystery writer\, Linda Shirley Robertson.  Mail a $35.00 check payable to: Lowcountry AC of Pi Beta Phi including your sorority\, school and initiation date to Peggy Hubright at 1303 Rowland Drive\, Dataw Island\, SC 29920
LOCATION:
UID:e.1212.2692
SEQUENCE:3
DTSTAMP:20260425T135028Z
URL:https://business.beaufortchamber.org/events/details/panhellenic-literacy-brunch-10-18-2008-2692
END:VEVENT

END:VCALENDAR
