BEGIN:VCALENDAR
VERSION:2.0
PRODID:-//ChamberMaster//Event Calendar 2.0//EN
METHOD:PUBLISH
X-PUBLISHED-TTL:P3D
REFRESH-INTERVAL:P3D
CALSCALE:GREGORIAN
BEGIN:VEVENT
DTSTART;VALUE=DATE:20080120
DTEND;VALUE=DATE:20080121
TRANSP:TRANSPARENT
X-MICROSOFT-CDO-ALLDAYEVENT:TRUE
SUMMARY:Penn Center Community Sing
DESCRIPTION:Celebrating the life and legacy of Dr. Martin L. King\, Jr.
X-ALT-DESC;FMTTYPE=text/html:Celebrating the life and legacy of Dr. Martin L. King\, Jr.
LOCATION:
UID:e.1212.2060
SEQUENCE:3
DTSTAMP:20260424T234041Z
URL:https://business.beaufortchamber.org/events/details/penn-center-community-sing-01-20-2008-2060
END:VEVENT

END:VCALENDAR
