BEGIN:VCALENDAR
VERSION:2.0
PRODID:-//ChamberMaster//Event Calendar 2.0//EN
METHOD:PUBLISH
X-PUBLISHED-TTL:P3D
REFRESH-INTERVAL:P3D
CALSCALE:GREGORIAN
BEGIN:VEVENT
DTSTART;VALUE=DATE:20081017
DTEND;VALUE=DATE:20081018
TRANSP:TRANSPARENT
X-MICROSOFT-CDO-ALLDAYEVENT:TRUE
SUMMARY:PJ & Play Children Series - Nate the Great
DESCRIPTION:Who do you call when there's a mystery to solve?  Nate the Great\, of course!  Find out if Nate the Great can.\n\n The play is a new musical based on the book by Majorie Weinman Sharmat.  he Golden Dragons are recognized throughout the US and abroad as the premier Chinese acrobatic touring company of today.   For questions or tickets\, please call the number listed.  Individual tickets are $40\, $35 and $30.
X-ALT-DESC;FMTTYPE=text/html:Who do you call when there's a mystery to solve?  Nate the Great\, of course!  Find out if Nate the Great can.<BR><BR> The play is a new musical based on the book by Majorie Weinman Sharmat.  he Golden Dragons are recognized throughout the US and abroad as the premier Chinese acrobatic touring company of today.   For questions or tickets\, please call the number listed.  Individual tickets are $40\, $35 and $30.
LOCATION:
UID:e.1212.2527
SEQUENCE:3
DTSTAMP:20260425T140127Z
URL:https://business.beaufortchamber.org/events/details/pj-play-children-series-nate-the-great-10-17-2008-2527
END:VEVENT

END:VCALENDAR
