BEGIN:VCALENDAR
VERSION:2.0
PRODID:-//ChamberMaster//Event Calendar 2.0//EN
METHOD:PUBLISH
X-PUBLISHED-TTL:P3D
REFRESH-INTERVAL:P3D
CALSCALE:GREGORIAN
BEGIN:VEVENT
DTSTART;VALUE=DATE:20081113
DTEND;VALUE=DATE:20081114
TRANSP:TRANSPARENT
X-MICROSOFT-CDO-ALLDAYEVENT:TRUE
SUMMARY:PJ & Play Children Series - The Mystery of King Tut
DESCRIPTION:Egyptian history comes to life.  A musical adventure linking the boy king and the famous archeologist\,Howard Carter\, who uncovers the hidden tomb.  For questions or tickets\, please call the number listed.\n\n Child's ticket:  $7\, adult\, $12.  An adult must accompany every four children.  Children who wear pj's get entertainment and a cookie and milk.
X-ALT-DESC;FMTTYPE=text/html:Egyptian history comes to life.  A musical adventure linking the boy king and the famous archeologist\,Howard Carter\, who uncovers the hidden tomb.  For questions or tickets\, please call the number listed.<BR><BR> Child's ticket:  $7\, adult\, $12.  An adult must accompany every four children.  Children who wear pj's get entertainment and a cookie and milk.
LOCATION:
UID:e.1212.2528
SEQUENCE:3
DTSTAMP:20260425T150851Z
URL:https://business.beaufortchamber.org/events/details/pj-play-children-series-the-mystery-of-king-tut-11-13-2008-2528
END:VEVENT

END:VCALENDAR
