BEGIN:VCALENDAR
VERSION:2.0
PRODID:-//ChamberMaster//Event Calendar 2.0//EN
METHOD:PUBLISH
X-PUBLISHED-TTL:P3D
REFRESH-INTERVAL:P3D
CALSCALE:GREGORIAN
BEGIN:VEVENT
DTSTART;VALUE=DATE:20080704
DTEND;VALUE=DATE:20080705
TRANSP:TRANSPARENT
X-MICROSOFT-CDO-ALLDAYEVENT:TRUE
SUMMARY:Port Royal 4th of July Celebration
DESCRIPTION:Fireworks display at dusk.  The Historic Port Royal Foundation will be selling beer\, sodas\, hotdogs and\nnachos.  No pets or coolers allowed except for infant care.  Sands boat ramp closed to all boat and \nvehicle traffic on Friday\, July 4.  Sands beach road at London Avenue closed to traffic all day. \nNo parking on bridges allowed.
X-ALT-DESC;FMTTYPE=text/html:Fireworks display at dusk.  The Historic Port Royal Foundation will be selling beer\, sodas\, hotdogs and\nnachos.  No pets or coolers allowed except for infant care.  Sands boat ramp closed to all boat and \nvehicle traffic on Friday\, July 4.  Sands beach road at London Avenue closed to traffic all day. \nNo parking on bridges allowed.
LOCATION:Port Royal
UID:e.1212.2597
SEQUENCE:3
DTSTAMP:20260425T105814Z
URL:https://business.beaufortchamber.org/events/details/port-royal-4th-of-july-celebration-07-04-2008-2597
END:VEVENT

END:VCALENDAR
