BEGIN:VCALENDAR
VERSION:2.0
PRODID:-//ChamberMaster//Event Calendar 2.0//EN
METHOD:PUBLISH
X-PUBLISHED-TTL:P3D
REFRESH-INTERVAL:P3D
CALSCALE:GREGORIAN
BEGIN:VEVENT
DTSTART:20231016T220000Z
DTEND:20231016T233000Z
X-MICROSOFT-CDO-ALLDAYEVENT:FALSE
SUMMARY:Port Royal Candidate Forum
DESCRIPTION:Town of Port Royal Candidate Forum\n\nCouncil Candidates: 6:00-6:30 PM\n\nMayoral Candidates: 6:30-7:30 PM
X-ALT-DESC;FMTTYPE=text/html:Town of Port Royal Candidate Forum<br />\nCouncil Candidates: 6:00-6:30 PM<br />\nMayoral Candidates:&nbsp\;6:30-7:30 PM
LOCATION:Port Royal Elementary School\, 1214 Paris Ave Enter on 12th Street to view in person WATCH LIVE ON Town of Port Royal Facebook Page or on the County Channel
UID:e.1212.13443
SEQUENCE:3
DTSTAMP:20260424T045519Z
URL:https://business.beaufortchamber.org/events/details/port-royal-candidate-forum-13443
END:VEVENT

END:VCALENDAR
