BEGIN:VCALENDAR
VERSION:2.0
PRODID:-//ChamberMaster//Event Calendar 2.0//EN
METHOD:PUBLISH
X-PUBLISHED-TTL:P3D
REFRESH-INTERVAL:P3D
CALSCALE:GREGORIAN
BEGIN:VEVENT
DTSTART:20191214T230000Z
DTEND:20191215T020000Z
X-MICROSOFT-CDO-ALLDAYEVENT:FALSE
SUMMARY:Port Royal Christmas Golf Cart Parade
DESCRIPTION:Save the date for the town of Port Royal's annual Christmas golf cart parade! Many residents in the town of Port Royal are proud owners of golf carts\, and the Annual Christmas Golf Cart Parade is a chance for them to showcase their carts decked out with festive decorations and compete in a competition for "Best in Show." Don't miss this one of a kind event!
X-ALT-DESC;FMTTYPE=text/html:Save the date for the town of Port Royal&rsquo\;s annual Christmas golf cart parade! Many residents in the town of Port Royal are proud owners of golf carts\, and the Annual Christmas Golf Cart Parade is a chance for them to showcase their carts decked out with festive decorations and compete in a competition for &ldquo\;Best in Show.&rdquo\; Don&rsquo\;t miss this one of a kind event!&nbsp\;
LOCATION:
UID:e.1212.12444
SEQUENCE:3
DTSTAMP:20260420T212042Z
URL:https://business.beaufortchamber.org/events/details/port-royal-christmas-golf-cart-parade-12444
END:VEVENT

END:VCALENDAR
