BEGIN:VCALENDAR
VERSION:2.0
PRODID:-//ChamberMaster//Event Calendar 2.0//EN
METHOD:PUBLISH
X-PUBLISHED-TTL:P3D
REFRESH-INTERVAL:P3D
CALSCALE:GREGORIAN
BEGIN:VEVENT
DTSTART;VALUE=DATE:20081112
DTEND;VALUE=DATE:20081113
TRANSP:TRANSPARENT
X-MICROSOFT-CDO-ALLDAYEVENT:TRUE
SUMMARY:Port Royal - Coffee with your Councilman
DESCRIPTION:Join your neighbors for lively discussion with your local councilman.
X-ALT-DESC;FMTTYPE=text/html:Join your neighbors for lively discussion with your local councilman.
LOCATION:
UID:e.1212.2803
SEQUENCE:3
DTSTAMP:20260425T150257Z
URL:https://business.beaufortchamber.org/events/details/port-royal-coffee-with-your-councilman-11-12-2008-2803
END:VEVENT

END:VCALENDAR
