BEGIN:VCALENDAR
VERSION:2.0
PRODID:-//ChamberMaster//Event Calendar 2.0//EN
METHOD:PUBLISH
X-PUBLISHED-TTL:P3D
REFRESH-INTERVAL:P3D
CALSCALE:GREGORIAN
BEGIN:VEVENT
DTSTART;VALUE=DATE:20080201
DTEND;VALUE=DATE:20080202
TRANSP:TRANSPARENT
X-MICROSOFT-CDO-ALLDAYEVENT:TRUE
SUMMARY:Port Royal Experiment
DESCRIPTION:Exhibition on the history of Penn School.
X-ALT-DESC;FMTTYPE=text/html:Exhibition on the history of Penn School.
LOCATION:
UID:e.1212.2065
SEQUENCE:3
DTSTAMP:20260425T005737Z
URL:https://business.beaufortchamber.org/events/details/port-royal-experiment-02-01-2008-2065
END:VEVENT

END:VCALENDAR
