BEGIN:VCALENDAR
VERSION:2.0
PRODID:-//ChamberMaster//Event Calendar 2.0//EN
METHOD:PUBLISH
X-PUBLISHED-TTL:P3D
REFRESH-INTERVAL:P3D
CALSCALE:GREGORIAN
BEGIN:VEVENT
DTSTART;VALUE=DATE:20081018
DTEND;VALUE=DATE:20081019
TRANSP:TRANSPARENT
X-MICROSOFT-CDO-ALLDAYEVENT:TRUE
SUMMARY:Port Royal Orchid Salon Cut-a-Thon
DESCRIPTION:Orchid Salon is conducting a Cut-a-Thon will all proceeds going to the local Breast Cancer Awareness program.  Stylists will be giving dry cuts with finger styling using Aveda styling products.  All hair cuts are $20 with cash\, checks and credit cards accepted.  After your haircut\, enjoy the Port Royal Oktoberfest - food\, music and fun.
X-ALT-DESC;FMTTYPE=text/html:Orchid Salon is conducting a Cut-a-Thon will all proceeds going to the local Breast Cancer Awareness program.  Stylists will be giving dry cuts with finger styling using Aveda styling products.  All hair cuts are $20 with cash\, checks and credit cards accepted.  After your haircut\, enjoy the Port Royal Oktoberfest - food\, music and fun.
LOCATION:
UID:e.1212.2676
SEQUENCE:3
DTSTAMP:20260425T135533Z
URL:https://business.beaufortchamber.org/events/details/port-royal-orchid-salon-cut-a-thon-10-18-2008-2676
END:VEVENT

END:VCALENDAR
