BEGIN:VCALENDAR
VERSION:2.0
PRODID:-//ChamberMaster//Event Calendar 2.0//EN
METHOD:PUBLISH
X-PUBLISHED-TTL:P3D
REFRESH-INTERVAL:P3D
CALSCALE:GREGORIAN
BEGIN:VEVENT
DTSTART;VALUE=DATE:20080830
DTEND;VALUE=DATE:20080831
TRANSP:TRANSPARENT
X-MICROSOFT-CDO-ALLDAYEVENT:TRUE
SUMMARY:Port Royal Performance Series - Lowcountry Boil
DESCRIPTION:
X-ALT-DESC;FMTTYPE=text/html:
LOCATION:
UID:e.1212.2660
SEQUENCE:3
DTSTAMP:20260425T122549Z
URL:https://business.beaufortchamber.org/events/details/port-royal-performance-series-lowcountry-boil-08-30-2008-2660
END:VEVENT

END:VCALENDAR
