BEGIN:VCALENDAR
VERSION:2.0
PRODID:-//ChamberMaster//Event Calendar 2.0//EN
METHOD:PUBLISH
X-PUBLISHED-TTL:P3D
REFRESH-INTERVAL:P3D
CALSCALE:GREGORIAN
BEGIN:VEVENT
DTSTART;VALUE=DATE:20080927
DTEND;VALUE=DATE:20080928
TRANSP:TRANSPARENT
X-MICROSOFT-CDO-ALLDAYEVENT:TRUE
SUMMARY:Port Royal Performance Series - The Homemade Jamz' Blues Band
DESCRIPTION:Free.  Bring your chairs.  Siblings Ryan\, Ryle & Taya Perry.  Produced by ACBC and presented by the Town of Port Royal.
X-ALT-DESC;FMTTYPE=text/html:Free.  Bring your chairs.  Siblings Ryan\, Ryle & Taya Perry.  Produced by ACBC and presented by the Town of Port Royal.
LOCATION:
UID:e.1212.2662
SEQUENCE:3
DTSTAMP:20260425T122731Z
URL:https://business.beaufortchamber.org/events/details/port-royal-performance-series-the-homemade-jamz-blues-band-09-27-2008-2662
END:VEVENT

END:VCALENDAR
