BEGIN:VCALENDAR
VERSION:2.0
PRODID:-//ChamberMaster//Event Calendar 2.0//EN
METHOD:PUBLISH
X-PUBLISHED-TTL:P3D
REFRESH-INTERVAL:P3D
CALSCALE:GREGORIAN
BEGIN:VEVENT
DTSTART:20190504T130000Z
DTEND:20190504T160000Z
X-MICROSOFT-CDO-ALLDAYEVENT:FALSE
SUMMARY:Port Royal Veterinary Hospital Grand Opening
DESCRIPTION:It's been 5 yrs in the making\, come help us celebrate your beautiful new veterinary hospital for the community. Take a tour\, Meet the doctors and staff\, see FrankenTeddy\, Noah's Arks\, Humane Association of the Lowcountry\, Little Friends Wildlife and 104.9 the Surf will all be there for you to meet.
X-ALT-DESC;FMTTYPE=text/html:<span style="color: rgb(29\, 33\, 41)\; font-family: system-ui\, -apple-system\, system-ui\, &quot\;.SFNSText-Regular&quot\;\, sans-serif\; font-size: 14px\; white-space: pre-wrap\;">It&rsquo\;s been 5 yrs in the making\, come help us celebrate your beautiful new veterinary hospital for the community. Take a tour\, Meet the doctors and staff\, see FrankenTeddy\, Noah&rsquo\;s Arks\, Humane Association of the Lowcountry\, Little Friends Wildlife and 104.9 the Surf will all be there for you to meet. </span>
LOCATION:Port Royal Veterinary Hospital 1502 Paris Ave.\, Port Royal
UID:e.1212.11562
SEQUENCE:3
DTSTAMP:20260422T175502Z
URL:https://business.beaufortchamber.org/events/details/port-royal-veterinary-hospital-grand-opening-11562
END:VEVENT

END:VCALENDAR
