BEGIN:VCALENDAR
VERSION:2.0
PRODID:-//ChamberMaster//Event Calendar 2.0//EN
METHOD:PUBLISH
X-PUBLISHED-TTL:P3D
REFRESH-INTERVAL:P3D
CALSCALE:GREGORIAN
BEGIN:VEVENT
DTSTART;VALUE=DATE:20080911
DTEND;VALUE=DATE:20080912
TRANSP:TRANSPARENT
X-MICROSOFT-CDO-ALLDAYEVENT:TRUE
SUMMARY:Portrait Drawing Classes by Linda Sheppard
DESCRIPTION:These classes will be held on Thursdays:  11\, 18\, 25 and Oct. 9.  To register or for more information\,\ncontact Linda Sheppard.
X-ALT-DESC;FMTTYPE=text/html:These classes will be held on Thursdays:  11\, 18\, 25 and Oct. 9.  To register or for more information\,\ncontact Linda Sheppard.
LOCATION:
UID:e.1212.2493
SEQUENCE:3
DTSTAMP:20260425T133704Z
URL:https://business.beaufortchamber.org/events/details/portrait-drawing-classes-by-linda-sheppard-09-11-2008-2493
END:VEVENT

END:VCALENDAR
