BEGIN:VCALENDAR
VERSION:2.0
PRODID:-//ChamberMaster//Event Calendar 2.0//EN
METHOD:PUBLISH
X-PUBLISHED-TTL:P3D
REFRESH-INTERVAL:P3D
CALSCALE:GREGORIAN
BEGIN:VEVENT
DTSTART;VALUE=DATE:20081120
DTEND;VALUE=DATE:20081121
TRANSP:TRANSPARENT
X-MICROSOFT-CDO-ALLDAYEVENT:TRUE
SUMMARY:Portrait Drawing & Painting Classes
DESCRIPTION:These classes are held on Thursday's.  Please contact Linda Sheppard to register or for more information.
X-ALT-DESC;FMTTYPE=text/html:These classes are held on Thursday's.  Please contact Linda Sheppard to register or for more information.
LOCATION:
UID:e.1212.2808
SEQUENCE:3
DTSTAMP:20260425T145704Z
URL:https://business.beaufortchamber.org/events/details/portrait-drawing-painting-classes-11-20-2008-2808
END:VEVENT

END:VCALENDAR
