BEGIN:VCALENDAR
VERSION:2.0
PRODID:-//ChamberMaster//Event Calendar 2.0//EN
METHOD:PUBLISH
X-PUBLISHED-TTL:P3D
REFRESH-INTERVAL:P3D
CALSCALE:GREGORIAN
BEGIN:VEVENT
DTSTART;VALUE=DATE:20080320
DTEND;VALUE=DATE:20080321
TRANSP:TRANSPARENT
X-MICROSOFT-CDO-ALLDAYEVENT:TRUE
SUMMARY:Pottery Classes - Intro & Advanced
DESCRIPTION:Cost:  $110 for six classes.   Classes are from 1pm - 3pm or 6pm - 8pm.   Call Trevor Foster at the\nnumber listed below to register and for questions.
X-ALT-DESC;FMTTYPE=text/html:Cost:  $110 for six classes.   Classes are from 1pm - 3pm or 6pm - 8pm.   Call Trevor Foster at the\nnumber listed below to register and for questions.
LOCATION:
UID:e.1212.2355
SEQUENCE:3
DTSTAMP:20260425T040331Z
URL:https://business.beaufortchamber.org/events/details/pottery-classes-intro-advanced-03-20-2008-2355
END:VEVENT

END:VCALENDAR
