BEGIN:VCALENDAR
VERSION:2.0
PRODID:-//ChamberMaster//Event Calendar 2.0//EN
METHOD:PUBLISH
X-PUBLISHED-TTL:P3D
REFRESH-INTERVAL:P3D
CALSCALE:GREGORIAN
BEGIN:VEVENT
DTSTART;VALUE=DATE:20080927
DTEND;VALUE=DATE:20080928
TRANSP:TRANSPARENT
X-MICROSOFT-CDO-ALLDAYEVENT:TRUE
SUMMARY:Prayer Breakfast
DESCRIPTION:Please call (843) 864-5270 to RSVP.
X-ALT-DESC;FMTTYPE=text/html:Please call (843) 864-5270 to RSVP.
LOCATION:
UID:e.1212.2677
SEQUENCE:3
DTSTAMP:20260425T122134Z
URL:https://business.beaufortchamber.org/events/details/prayer-breakfast-09-27-2008-2677
END:VEVENT

END:VCALENDAR
