BEGIN:VCALENDAR
VERSION:2.0
PRODID:-//ChamberMaster//Event Calendar 2.0//EN
METHOD:PUBLISH
X-PUBLISHED-TTL:P3D
REFRESH-INTERVAL:P3D
CALSCALE:GREGORIAN
BEGIN:VEVENT
DTSTART;VALUE=DATE:20080320
DTEND;VALUE=DATE:20080321
TRANSP:TRANSPARENT
X-MICROSOFT-CDO-ALLDAYEVENT:TRUE
SUMMARY:Professional MBA Information Session
DESCRIPTION:Upcoming information sessions for Fall 2008 from the Stetson School of Business and Economics\, \nProfessional MBA\, at Mercer University in Savannah.  For reservations\, email Bob Holland.  Questions\,\nplease call.
X-ALT-DESC;FMTTYPE=text/html:Upcoming information sessions for Fall 2008 from the Stetson School of Business and Economics\, \nProfessional MBA\, at Mercer University in Savannah.  For reservations\, email Bob Holland.  Questions\,\nplease call.
LOCATION:
UID:e.1212.2245
SEQUENCE:3
DTSTAMP:20260425T023904Z
URL:https://business.beaufortchamber.org/events/details/professional-mba-information-session-03-20-2008-2245
END:VEVENT

END:VCALENDAR
